BEGIN:VCALENDAR
VERSION:2.0
PRODID:-//wp-events-plugin.com//7.2.3.1//EN
BEGIN:VEVENT
UID:11098@vegasstronger.org
DTSTART:20260422T183000Z
DTEND:20260422T203000Z
DTSTAMP:20260330T071218Z
URL:https://vegasstronger.org/community-calendars/earth-day-clean-up/
SUMMARY:Earth Day Clean Up
DESCRIPTION:Downtown Neighborhood Cleanup\nApril 22nd\nJoin us for a commun
 ity Earth Day event featuring a tree planting\, neighborhood cleanup\, and
  open house with BBQ lunch.\n\nSchedule\n\n 	11:30 AM – Tree Planting &a
 mp\; Remembrance Ceremony\n 	12:00 PM – Downtown Cleanup\n 	12:45 PM –
  1:30 PM – Open House &amp\; BBQ Lunch\n
ATTACH;FMTTYPE=image/jpeg:https://vegasstronger.org/wp-content/uploads/Ear
 th-Day-Clean-Up-1-1.png
CATEGORIES:Events
LOCATION:las vegas\, 916 N. Main Street\, Las Vegas\, Nevada\, 89101\, Unit
 ed States
X-APPLE-STRUCTURED-LOCATION;VALUE=URI;X-ADDRESS=916 N. Main Street\, Las Ve
 gas\, Nevada\, 89101\, United States;X-APPLE-RADIUS=100;X-TITLE=las vegas:
 geo:0,0
END:VEVENT
END:VCALENDAR