BEGIN:VCALENDAR
VERSION:2.0
PRODID:-//wp-events-plugin.com//7.2.3.1//EN
BEGIN:VEVENT
UID:9083@vegasstronger.org
DTSTART:20260817T150000Z
DTEND:20260817T173000Z
DTSTAMP:20260108T132232Z
URL:https://vegasstronger.org/community-calendars/iop-group-d-2026-01-02-2
 026-01-05-2026-01-07-2026-01-09-2026-01-12-2026-01-14-2026-01-16-2026-01-1
 9-2026-01-21-2026-01-23-2026-01-26-2026-01-28-2026-01-30-2026-02-02-2026-0
 2-04-2026-02-0-14-2026-08-17/
SUMMARY:IOP - Group D
DESCRIPTION:
ATTACH;FMTTYPE=image/jpeg:https://vegasstronger.org/wp-content/uploads/202
 5/03/vs-news-fallback.jpg
CATEGORIES:Clinical Schedule
END:VEVENT
END:VCALENDAR