BEGIN:VCALENDAR
VERSION:2.0
PRODID:-//wp-events-plugin.com//7.2.3.1//EN
BEGIN:VEVENT
UID:11060@vegasstronger.org
DTSTART:20260830T190000Z
DTEND:20260830T213000Z
DTSTAMP:20260108T145043Z
URL:https://vegasstronger.org/community-calendars/iop-group-e-2-2026-01-03
 -2026-01-04-2026-01-10-2026-01-11-2026-01-17-2026-01-18-2026-01-24-2026-01
 -25-2026-01-31-2026-02-01-2026-02-07-2026-02-08-2026-02-14-2026-02-15-2026
 -02-21-2026-02-29-2026-08-30/
SUMMARY:IOP - Group E
DESCRIPTION:
ATTACH;FMTTYPE=image/jpeg:https://vegasstronger.org/wp-content/uploads/202
 5/03/vs-news-fallback.jpg
CATEGORIES:Clinical Schedule
END:VEVENT
END:VCALENDAR