BEGIN:VCALENDAR
VERSION:2.0
PRODID:-//wp-events-plugin.com//7.2.3.1//EN
BEGIN:VEVENT
UID:10765@vegasstronger.org
DTSTART:20260806T230000Z
DTEND:20260807T013000Z
DTSTAMP:20260108T141428Z
URL:https://vegasstronger.org/community-calendars/iop-group-g-2026-01-01-2
 026-01-02-2026-01-06-2026-01-08-2026-01-09-2026-01-13-2026-01-15-2026-01-1
 6-2026-01-20-2026-01-22-2026-01-23-2026-01-27-2026-01-29-2026-01-30-2026-0
 2-03-2026-02-0-04-2026-08-06/
SUMMARY:IOP - Group G
DESCRIPTION:
ATTACH;FMTTYPE=image/jpeg:https://vegasstronger.org/wp-content/uploads/202
 5/03/vs-news-fallback.jpg
CATEGORIES:Clinical Schedule
END:VEVENT
END:VCALENDAR