BEGIN:VCALENDAR
VERSION:2.0
PRODID:-//wp-events-plugin.com//7.2.3.1//EN
BEGIN:VEVENT
UID:10394@vegasstronger.org
DTSTART:20260804T160000Z
DTEND:20260804T183000Z
DTSTAMP:20260108T141024Z
URL:https://vegasstronger.org/community-calendars/iop-group-h-2026-01-01-2
 026-01-03-2026-01-06-2026-01-08-2026-01-10-2026-01-13-2026-01-15-2026-01-1
 7-2026-01-20-2026-01-22-2026-01-24-2026-01-27-2026-01-29-2026-01-31-2026-0
 2-03-2026-02-0-01-2026-08-04/
SUMMARY:IOP - Group H
DESCRIPTION:
ATTACH;FMTTYPE=image/jpeg:https://vegasstronger.org/wp-content/uploads/202
 5/03/vs-news-fallback.jpg
CATEGORIES:Clinical Schedule
END:VEVENT
END:VCALENDAR