BEGIN:VCALENDAR
VERSION:2.0
PRODID:-//wp-events-plugin.com//7.2.3.1//EN
BEGIN:VEVENT
UID:9788@vegasstronger.org
DTSTART:20260827T190000Z
DTEND:20260827T213000Z
DTSTAMP:20260108T132732Z
URL:https://vegasstronger.org/community-calendars/mh-iop-mh-op-2026-01-01-
 2026-01-02-2026-01-05-2026-01-06-2026-01-07-2026-01-08-2026-01-09-2026-01-
 12-2026-01-13-2026-01-14-2026-01-15-2026-01-16-2026-01-19-2026-01-20-2026-
 01-21-2026-01-26-2026-08-27/
SUMMARY:MH IOP/MH OP
DESCRIPTION:
ATTACH;FMTTYPE=image/jpeg:https://vegasstronger.org/wp-content/uploads/202
 5/03/vs-news-fallback.jpg
CATEGORIES:Clinical Schedule
END:VEVENT
END:VCALENDAR