BEGIN:VCALENDAR
VERSION:2.0
PRODID:-//wp-events-plugin.com//7.2.3.1//EN
BEGIN:VEVENT
UID:10970@vegasstronger.org
DTSTART:20260815T230000Z
DTEND:20260816T000000Z
DTSTAMP:20260108T144953Z
URL:https://vegasstronger.org/community-calendars/op-group-p-2026-01-03-20
 26-01-10-2026-01-17-2026-01-24-2026-01-31-2026-02-07-2026-02-14-2026-02-21
 -2026-02-28-2026-03-07-2026-03-14-2026-03-21-2026-03-28-2026-04-04-2026-04
 -11-2026-04-18-08-2026-08-15/
SUMMARY:OP - Group P
DESCRIPTION:
ATTACH;FMTTYPE=image/jpeg:https://vegasstronger.org/wp-content/uploads/202
 5/03/vs-news-fallback.jpg
CATEGORIES:Clinical Schedule
END:VEVENT
END:VCALENDAR