BEGIN:VCALENDAR
VERSION:2.0
PRODID:-//wp-events-plugin.com//7.2.3.1//EN
BEGIN:VEVENT
UID:10917@vegasstronger.org
DTSTART:20260820T160000Z
DTEND:20260820T163000Z
DTSTAMP:20260108T144707Z
URL:https://vegasstronger.org/community-calendars/op-p-2026-01-01-2026-01-
 08-2026-01-15-2026-01-22-2026-01-29-2026-02-05-2026-02-12-2026-02-19-2026-
 02-26-2026-03-05-2026-03-12-2026-03-19-2026-03-26-2026-04-02-2026-04-09-20
 26-04-16-2026-13-2026-08-20/
SUMMARY:OP P
DESCRIPTION:
ATTACH;FMTTYPE=image/jpeg:https://vegasstronger.org/wp-content/uploads/202
 5/03/vs-news-fallback.jpg
CATEGORIES:Clinical Schedule
END:VEVENT
END:VCALENDAR