BEGIN:VCALENDAR
VERSION:2.0
PRODID:-//wp-events-plugin.com//7.2.3.1//EN
BEGIN:VEVENT
UID:8738@vegasstronger.org
DTSTART:20260901T150000Z
DTEND:20260901T183000Z
DTSTAMP:20260108T131748Z
URL:https://vegasstronger.org/community-calendars/php-group-a-2026-01-01-2
 026-01-02-2026-01-05-2026-01-06-2026-01-07-2026-01-08-2026-01-09-2026-01-1
 2-2026-01-13-2026-01-14-2026-01-15-2026-01-16-2026-01-19-2026-01-20-2026-0
 1-21-2026-01-2-31-2026-09-01/
SUMMARY:PHP - Group A
DESCRIPTION:
ATTACH;FMTTYPE=image/jpeg:https://vegasstronger.org/wp-content/uploads/202
 5/03/vs-news-fallback.jpg
CATEGORIES:Clinical Schedule
END:VEVENT
END:VCALENDAR