BEGIN:VCALENDAR
VERSION:2.0
PRODID:-//wp-events-plugin.com//7.2.3.1//EN
BEGIN:VEVENT
UID:10874@vegasstronger.org
DTSTART:20261103T230000Z
DTEND:20261103T233000Z
DTSTAMP:20260108T141505Z
URL:https://vegasstronger.org/community-calendars/youth-blaise-2026-01-06-
 2026-01-13-2026-01-20-2026-01-27-2026-02-03-2026-02-10-2026-02-17-2026-02-
 24-2026-03-03-2026-03-10-2026-03-17-2026-03-24-2026-03-31-2026-04-07-2026-
 04-14-2026-04-27-2026-11-03/
SUMMARY:Youth Blaise
DESCRIPTION:
ATTACH;FMTTYPE=image/jpeg:https://vegasstronger.org/wp-content/uploads/202
 5/03/vs-news-fallback.jpg
CATEGORIES:Clinical Schedule
END:VEVENT
END:VCALENDAR